BEGIN:VCALENDAR
VERSION:2.0
CALSCALE:GREGORIAN
PRODID:adamgibbons/ics
METHOD:PUBLISH
X-PUBLISHED-TTL:PT1H
BEGIN:VEVENT
UID:659@dodenver.diy
SUMMARY:Seventh Circle Monthly Volunteer Meeting
DTSTAMP:20260419T170529Z
DTSTART:20260512T003000Z
DTEND:20260512T020000Z
DESCRIPTION:Every month\, members of the collective meet to discuss Seventh
	 Circle matters\nand vote on next steps. We stream our meetings through th
	e linked Discord server\n[https://discord.gg/3pNEuTSZnx]\, but it's best t
	o come in person! Arrive at\n6:30pm for an introduction from veteran membe
	rs\, and by 7pm sharp for the\nmeeting itself. We try to be done by 8pm\, 
	but we've been known to stay longer if\nthere's a lot on the docket. Meeti
	ng agenda also posted in the linked Discord\n[https://discord.gg/3pNEuTSZn
	x]. If you want to be a part of the collective\nmaking things happen at Se
	venth Circle\, this is a great time to learn more and\ntalk to involved vo
	lunteers.\n\nSeventh Circle Music Collective is an independent volunteer-r
	un music venue in\nDenver\, Colorado. Our mission is to provide an inclusi
	ve\, sober\, and\nbarrier-free space for Denver’s underground music commun
	ity. We’re a\nhorizontally organized collective\, meaning that all decisio
	ns about Seventh\nCircle are made by the community\, and all shows and eve
	nts are donation-based\nand volunteer-run. More about us on our website 7t
	hcirclemusiccollective.org/\n[https://www.7thcirclemusiccollective.org/]
URL:https://dodenver.diy/event/seventh-circle-monthly-volunteer-meeting-9
LOCATION:Seventh Circle - 2935 W 7th Ave\, Denver\, CO 80204
STATUS:CONFIRMED
CATEGORIES:anarchism,community event,music,organizing
X-ALT-DESC;FMTTYPE=text/html:<p>Every month, members of the collective meet
	 to discuss Seventh Circle matters and vote on next steps. We stream our m
	eetings through the <a target="_blank" href="https://discord.gg/3pNEuTSZnx
	">linked Discord server</a>, but it's best to come in person! Arrive at 6:
	30pm for an introduction from veteran members, and by 7pm sharp for the me
	eting itself. We try to be done by 8pm, but we've been known to stay longe
	r if there's a lot on the docket. Meeting agenda also posted in the <a tar
	get="_blank" href="https://discord.gg/3pNEuTSZnx">linked Discord</a>. If y
	ou want to be a part of the collective making things happen at Seventh Cir
	cle, this is a great time to learn more and talk to involved volunteers. <
	/p><p>Seventh Circle Music Collective is an independent volunteer-run musi
	c venue in Denver, Colorado. Our mission is to provide an inclusive, sober
	, and barrier-free space for Denver’s underground music community. We’re a
	 horizontally organized collective, meaning that all decisions about Seven
	th Circle are made by the community, and all shows and events are donation
	-based and volunteer-run. <a target="_blank" href="https://www.7thcirclemu
	siccollective.org/">More about us on our website 7thcirclemusiccollective.
	org/</a></p>
BEGIN:VALARM
ACTION:DISPLAY
DESCRIPTION:Seventh Circle Monthly Volunteer Meeting
TRIGGER:-PT1H
END:VALARM
END:VEVENT
END:VCALENDAR
